BEGIN:VCALENDAR
VERSION:2.0
PRODID:-//wp-events-plugin.com//7.2.3.1//EN
TZID:Europe/Paris
X-WR-TIMEZONE:Europe/Paris
BEGIN:VEVENT
UID:142@inclusion-numerique.lafibre64.fr
DTSTART;TZID=Europe/Paris:20260422T100000
DTEND;TZID=Europe/Paris:20260422T120000
DTSTAMP:20260331T150733Z
URL:https://inclusion-numerique.lafibre64.fr/events/atelier-numerique-de-e
 spelette-aller-plus-loin-avec-sa-messagerie/
SUMMARY:Atelier numérique de Espelette - Aller plus loin avec sa messageri
 e
DESCRIPTION:Ateliers numériques de Espelette - Aller plus loin avec sa mes
 sagerie\n\nCet atelier s’adresse à tous les publics maîtrisant les usa
 ges de base du numérique sur ordinateur.\n\n\nDes pré-requis sont néces
 saires pour suivre cet atelier\, à savoir : Savoir utiliser un ordinateur
 \n\nLes participants seront en priorité les habitants de la commune ou le
 s adhérents de l'association\, mais restent ouvert à d’autres publics 
 s’il reste de la place. Les inscriptions se font auprès des communes/as
 sociations concernées.\n\nPour plus d'information sur l'organisation des 
 ateliers itinérants vous pouvez visiter notre page web en cliquant sur le
  lien suivant : https://bit.ly/plaquetteateliernumeriqueLaFibre64 
LOCATION:Espelette - Médiathèque\, 70 Xerri Karrika\, Espelette\, 64250\,
  France
X-APPLE-STRUCTURED-LOCATION;VALUE=URI;X-ADDRESS=70 Xerri Karrika\, Espelett
 e\, 64250\, France;X-APPLE-RADIUS=100;X-TITLE=Espelette - Médiathèque:ge
 o:0,0
END:VEVENT
BEGIN:VTIMEZONE
TZID:Europe/Paris
X-LIC-LOCATION:Europe/Paris
BEGIN:DAYLIGHT
DTSTART:20260329T030000
TZOFFSETFROM:+0100
TZOFFSETTO:+0200
TZNAME:CEST
END:DAYLIGHT
END:VTIMEZONE
END:VCALENDAR