BEGIN:VCALENDAR
VERSION:2.0
PRODID:-//wp-events-plugin.com//7.2.3.1//EN
TZID:Europe/Paris
X-WR-TIMEZONE:Europe/Paris
BEGIN:VEVENT
UID:144@inclusion-numerique.lafibre64.fr
DTSTART;TZID=Europe/Paris:20260429T133000
DTEND;TZID=Europe/Paris:20260429T153000
DTSTAMP:20260331T151116Z
URL:https://inclusion-numerique.lafibre64.fr/events/ateliers-numeriques-de
 -espelette-comment-envoyer-et-recuperer-des-fichiers-volumineux/
SUMMARY:Ateliers numériques de Espelette - Comment envoyer et récupérer 
 des fichiers volumineux
DESCRIPTION:Ateliers numériques de Espelette - Comment envoyer et récupé
 rer des fichiers volumineux\n\nCet atelier s’adresse à tous les publics
  maîtrisant les usages de base du numérique. Tablette/smartphone ou ordi
 nateur.\n\n\nDes pré-requis sont nécessaires pour suivre cet atelier\, 
 à savoir : Connaître l'utilisation de base smartphone/tablette Android e
 t de l'ordinateur Windows. Pouvoir se connecter à son adresse mail.\n\nLe
 s participants seront en priorité les habitants de la commune ou les adh
 érents de l'association\, mais restent ouvert à d’autres publics s’i
 l reste de la place. Les inscriptions se font auprès des communes/associa
 tions concernées.\n\nPour plus d'information sur l'organisation des ateli
 ers itinérants vous pouvez visiter notre page web en cliquant sur le lien
  suivant : https://bit.ly/plaquetteateliernumeriqueLaFibre64 
CATEGORIES:Ateliers Thématiques
LOCATION:Espelette - Médiathèque\, 70 Xerri Karrika\, Espelette\, 64250\,
  France
X-APPLE-STRUCTURED-LOCATION;VALUE=URI;X-ADDRESS=70 Xerri Karrika\, Espelett
 e\, 64250\, France;X-APPLE-RADIUS=100;X-TITLE=Espelette - Médiathèque:ge
 o:0,0
END:VEVENT
BEGIN:VTIMEZONE
TZID:Europe/Paris
X-LIC-LOCATION:Europe/Paris
BEGIN:DAYLIGHT
DTSTART:20260329T030000
TZOFFSETFROM:+0100
TZOFFSETTO:+0200
TZNAME:CEST
END:DAYLIGHT
END:VTIMEZONE
END:VCALENDAR