BEGIN:VCALENDAR
VERSION:2.0
PRODID:-//wp-events-plugin.com//7.2.3.1//EN
TZID:Europe/Paris
X-WR-TIMEZONE:Europe/Paris
BEGIN:VEVENT
UID:141@inclusion-numerique.lafibre64.fr
DTSTART;TZID=Europe/Paris:20260429T133000
DTEND;TZID=Europe/Paris:20260429T153000
DTSTAMP:20260331T151058Z
URL:https://inclusion-numerique.lafibre64.fr/events/ateliers-numeriques-de
 -espelette-la-creation-de-compte-en-ligne/
SUMMARY:Ateliers numériques de Espelette - La création de compte en ligne
DESCRIPTION:Ateliers numériques de Espelette - La création de compte en l
 igne\n\nCet atelier s’adresse à tous les publics maîtrisant les usages
  de base du numérique sur ordinateur.\n\n\nDes pré-requis sont nécessai
 res pour suivre cet atelier\, à savoir : Savoir utiliser un ordinateur\n\
 nLes participants seront en priorité les habitants de la commune ou les a
 dhérents de l'association\, mais restent ouvert à d’autres publics s
 ’il reste de la place. Les inscriptions se font auprès des communes/ass
 ociations concernées.\n\nPour plus d'information sur l'organisation des a
 teliers itinérants vous pouvez visiter notre page web en cliquant sur le 
 lien suivant : https://bit.ly/plaquetteateliernumeriqueLaFibre64 
CATEGORIES:Ateliers Thématiques
LOCATION:Espelette - Médiathèque\, 70 Xerri Karrika\, Espelette\, 64250\,
  France
X-APPLE-STRUCTURED-LOCATION;VALUE=URI;X-ADDRESS=70 Xerri Karrika\, Espelett
 e\, 64250\, France;X-APPLE-RADIUS=100;X-TITLE=Espelette - Médiathèque:ge
 o:0,0
END:VEVENT
BEGIN:VTIMEZONE
TZID:Europe/Paris
X-LIC-LOCATION:Europe/Paris
BEGIN:DAYLIGHT
DTSTART:20260329T030000
TZOFFSETFROM:+0100
TZOFFSETTO:+0200
TZNAME:CEST
END:DAYLIGHT
END:VTIMEZONE
END:VCALENDAR