BEGIN:VCALENDAR
VERSION:2.0
PRODID:-//wp-events-plugin.com//7.2.3.1//EN
TZID:Europe/Paris
X-WR-TIMEZONE:Europe/Paris
BEGIN:VEVENT
UID:143@inclusion-numerique.lafibre64.fr
DTSTART;TZID=Europe/Paris:20260422T100000
DTEND;TZID=Europe/Paris:20260422T120000
DTSTAMP:20260331T150914Z
URL:https://inclusion-numerique.lafibre64.fr/events/ateliers-numeriques-es
 pelette-creer-une-video-a-partir-de-ses-photos-pour-partager-avec-ses-proc
 hes/
SUMMARY:Ateliers numériques Espelette - Créer une vidéo à partir de ses
  photos pour partager avec ses proches
DESCRIPTION:Ateliers numériques Espelette - Créer une vidéo à partir de
  ses photos pour partager avec ses proches\n\nCet atelier s’adresse à t
 ous les publics maîtrisant les usages de base du numérique. Tablette/sma
 rtphone.\n\n\nDes pré-requis sont nécessaires pour suivre cet atelier\, 
 à savoir : Avoir un smarpthone (ecran tactile) ou une tablette et connait
 re l'utilisation de base\n\nLes participants seront en priorité les habit
 ants de la commune ou les adhérents de l'association\, mais restent ouver
 t à d’autres publics s’il reste de la place. Les inscriptions se font
  auprès des communes/associations concernées.\n\nPour plus d'information
  sur l'organisation des ateliers itinérants vous pouvez visiter notre pag
 e web en cliquant sur le lien suivant : https://bit.ly/plaquetteateliernum
 eriqueLaFibre64 \n\n&nbsp\;
CATEGORIES:Ateliers Thématiques
LOCATION:Espelette - Médiathèque\, 70 Xerri Karrika\, Espelette\, 64250\,
  France
X-APPLE-STRUCTURED-LOCATION;VALUE=URI;X-ADDRESS=70 Xerri Karrika\, Espelett
 e\, 64250\, France;X-APPLE-RADIUS=100;X-TITLE=Espelette - Médiathèque:ge
 o:0,0
END:VEVENT
BEGIN:VTIMEZONE
TZID:Europe/Paris
X-LIC-LOCATION:Europe/Paris
BEGIN:DAYLIGHT
DTSTART:20260329T030000
TZOFFSETFROM:+0100
TZOFFSETTO:+0200
TZNAME:CEST
END:DAYLIGHT
END:VTIMEZONE
END:VCALENDAR