BEGIN:VCALENDAR
VERSION:2.0
PRODID:-//wp-events-plugin.com//7.2.3.1//EN
TZID:Europe/Paris
X-WR-TIMEZONE:Europe/Paris
BEGIN:VEVENT
UID:151@inclusion-numerique.lafibre64.fr
DTSTART;TZID=Europe/Paris:20260423T093000
DTEND;TZID=Europe/Paris:20260423T120000
DTSTAMP:20260331T152423Z
URL:https://inclusion-numerique.lafibre64.fr/events/ateliers-numeriques-ha
 sparren-cycle-de-4-ateliers-debutants-tablette-smartphone-7/
SUMMARY:Ateliers numériques Hasparren - Cycle de 4 ateliers débutants tab
 lette/smartphone
DESCRIPTION:Les ateliers se font sous forme de cycle de quatre séances sur
  quatre semaines. Les participants s'engagent à suivre le cycle en entier
 .\n\nLes ateliers auront lieu les Jeudis 09 et le vendredi 17 avril puis l
 es jeudis 23 et 30 avril\n\nCes ateliers s’adressent à tous les publics
  éloignés du numérique grands débutants et débutants.\n\nLes particip
 ants seront en priorité les habitants de la commune\, mais les ateliers r
 estent ouvert à d’autres publics s’il reste de la place. Les inscript
 ions se font auprès de la structure accueillante.\n\nPour plus d'informat
 ion sur l'organisation des ateliers itinérants vous pouvez visiter notre 
 page web en cliquant sur le lien suivant : https://inclusion-numerique.laf
 ibre64.fr/mediation-numeriquelf64/
CATEGORIES:Les essentiels
LOCATION:Hasparren - Maison des services\, 11 Rue Gaskoina\, Hasparren\, 64
 240\, France
X-APPLE-STRUCTURED-LOCATION;VALUE=URI;X-ADDRESS=11 Rue Gaskoina\, Hasparren
 \, 64240\, France;X-APPLE-RADIUS=100;X-TITLE=Hasparren - Maison des servic
 es:geo:0,0
END:VEVENT
BEGIN:VTIMEZONE
TZID:Europe/Paris
X-LIC-LOCATION:Europe/Paris
BEGIN:DAYLIGHT
DTSTART:20260329T030000
TZOFFSETFROM:+0100
TZOFFSETTO:+0200
TZNAME:CEST
END:DAYLIGHT
END:VTIMEZONE
END:VCALENDAR